Workbook

Sheet FlowSheet
A1: Stanford Biomedical Informatics Coterminal MS Course Flowsheet (Example) | Q1: version of 1-Aug-2018
A2: Name:
A3: Ima Student
A4: Date:
A5: 43952
A7: Instructions: Enter course and number of units in grid for all courses, enter grade (A, B+, etc) for completed courses. Enter Y in UG? to count towards undergrad instead of grad.
C9: Year 1 | G9: Year 2 | K9: Year 3
B10: Course | C10: Aut | D10: Win | E10: Spr | F10: Sum | G10: Aut | H10: Win | I10: Spr | J10: Sum | K10: Aut | L10: Win | M10: Spr | N10: Sum | O10: Grade | P10: UG? | Q10: Comments | R10: Units | S10: Class units | T10: Class Grade Points | U10: Weighted Grade Points
A11: Biomedical Informatics | B11: BIOMEDIN 212 | R11: =IF(P11="Y",0,SUM(C11:N11)) -> 0 | S11: =IF(ISERROR(VLOOKUP(O11,GPATable!$A$1:$B$13,2,FALSE)),0,R11) -> 0 | T11: =IF(ISERROR(VLOOKUP(O11,GPATable!$A$1:$B$13,2,FALSE)),0,VLOOKUP(O11,GPATable!$A$1:$B$13,2,FALSE)) -> 0 | U11: =S11*T11 -> 0
A12: BIOMEDIN 212 and 4 courses | B12: BIOMEDIN 217 | C12: 4 | O12: B | P12: Y | Q12: counts towards distributional requirements | R12: =IF(P12="Y",0,SUM(C12:N12)) -> 0 | S12: =IF(ISERROR(VLOOKUP(O12,GPATable!$A$1:$B$13,2,FALSE)),0,R12) -> 0 | T12: =IF(ISERROR(VLOOKUP(O12,GPATable!$A$1:$B$13,2,FALSE)),0,VLOOKUP(O12,GPATable!$A$1:$B$13,2,FALSE)) -> 3 | U12: =S12*T12 -> 0
A13: from BIOMEDIN 210, 214, 215, | Q13: but not as units towards the MS degree. | R13: =IF(P13="Y",0,SUM(C13:N13)) -> 0 | S13: =IF(ISERROR(VLOOKUP(O13,GPATable!$A$1:$B$13,2,FALSE)),0,R13) -> 0 | T13: =IF(ISERROR(VLOOKUP(O13,GPATable!$A$1:$B$13,2,FALSE)),0,VLOOKUP(O13,GPATable!$A$1:$B$13,2,FALSE)) -> 0 | U13: =S13*T13 -> 0
A14: 217, and 260 | R14: =IF(P14="Y",0,SUM(C14:N14)) -> 0 | S14: =IF(ISERROR(VLOOKUP(O14,GPATable!$A$1:$B$13,2,FALSE)),0,R14) -> 0 | T14: =IF(ISERROR(VLOOKUP(O14,GPATable!$A$1:$B$13,2,FALSE)),0,VLOOKUP(O14,GPATable!$A$1:$B$13,2,FALSE)) -> 0 | U14: =S14*T14 -> 0
R15: =IF(P15="Y",0,SUM(C15:N15)) -> 0 | S15: =IF(ISERROR(VLOOKUP(O15,GPATable!$A$1:$B$13,2,FALSE)),0,R15) -> 0 | T15: =IF(ISERROR(VLOOKUP(O15,GPATable!$A$1:$B$13,2,FALSE)),0,VLOOKUP(O15,GPATable!$A$1:$B$13,2,FALSE)) -> 0 | U15: =S15*T15 -> 0
R16: =IF(P16="Y",0,SUM(C16:N16)) -> 0 | S16: =IF(ISERROR(VLOOKUP(O16,GPATable!$A$1:$B$13,2,FALSE)),0,R16) -> 0 | T16: =IF(ISERROR(VLOOKUP(O16,GPATable!$A$1:$B$13,2,FALSE)),0,VLOOKUP(O16,GPATable!$A$1:$B$13,2,FALSE)) -> 0 | U16: =S16*T16 -> 0
R17: =IF(P17="Y",0,SUM(C17:N17)) -> 0 | S17: =IF(ISERROR(VLOOKUP(O17,GPATable!$A$1:$B$13,2,FALSE)),0,R17) -> 0 | T17: =IF(ISERROR(VLOOKUP(O17,GPATable!$A$1:$B$13,2,FALSE)),0,VLOOKUP(O17,GPATable!$A$1:$B$13,2,FALSE)) -> 0 | U17: =S17*T17 -> 0
A18: CS/Stats/Math/Eng | B18: CS 161 | D18: 5 | O18: A- | Q18: counts towards distributional requirements | R18: =IF(P18="Y",0,SUM(C18:N18)) -> 5 | S18: =IF(ISERROR(VLOOKUP(O18,GPATable!$A$1:$B$13,2,FALSE)),0,R18) -> 5 | T18: =IF(ISERROR(VLOOKUP(O18,GPATable!$A$1:$B$13,2,FALSE)),0,VLOOKUP(O18,GPATable!$A$1:$B$13,2,FALSE)) -> 3.7 | U18: =S18*T18 -> 18.5
A19: Minimum of 18 units | B19: STATS 200 | Q19: and as units towards MS degree. | R19: =IF(P19="Y",0,SUM(C19:N19)) -> 0 | S19: =IF(ISERROR(VLOOKUP(O19,GPATable!$A$1:$B$13,2,FALSE)),0,R19) -> 0 | T19: =IF(ISERROR(VLOOKUP(O19,GPATable!$A$1:$B$13,2,FALSE)),0,VLOOKUP(O19,GPATable!$A$1:$B$13,2,FALSE)) -> 0 | U19: =S19*T19 -> 0
A20: CS 161 and STATS 200 and | B20: STATS 315A/CS 229 | R20: =IF(P20="Y",0,SUM(C20:N20)) -> 0 | S20: =IF(ISERROR(VLOOKUP(O20,GPATable!$A$1:$B$13,2,FALSE)),0,R20) -> 0 | T20: =IF(ISERROR(VLOOKUP(O20,GPATable!$A$1:$B$13,2,FALSE)),0,VLOOKUP(O20,GPATable!$A$1:$B$13,2,FALSE)) -> 0 | U20: =S20*T20 -> 0
A21: STATS 315A or CS 229 required* | R21: =IF(P21="Y",0,SUM(C21:N21)) -> 0 | S21: =IF(ISERROR(VLOOKUP(O21,GPATable!$A$1:$B$13,2,FALSE)),0,R21) -> 0 | T21: =IF(ISERROR(VLOOKUP(O21,GPATable!$A$1:$B$13,2,FALSE)),0,VLOOKUP(O21,GPATable!$A$1:$B$13,2,FALSE)) -> 0 | U21: =S21*T21 -> 0
A22: See website for complete list | R22: =IF(P22="Y",0,SUM(C22:N22)) -> 0 | S22: =IF(ISERROR(VLOOKUP(O22,GPATable!$A$1:$B$13,2,FALSE)),0,R22) -> 0 | T22: =IF(ISERROR(VLOOKUP(O22,GPATable!$A$1:$B$13,2,FALSE)),0,VLOOKUP(O22,GPATable!$A$1:$B$13,2,FALSE)) -> 0 | U22: =S22*T22 -> 0
R23: =IF(P23="Y",0,SUM(C23:N23)) -> 0 | S23: =IF(ISERROR(VLOOKUP(O23,GPATable!$A$1:$B$13,2,FALSE)),0,R23) -> 0 | T23: =IF(ISERROR(VLOOKUP(O23,GPATable!$A$1:$B$13,2,FALSE)),0,VLOOKUP(O23,GPATable!$A$1:$B$13,2,FALSE)) -> 0 | U23: =S23*T23 -> 0
R24: =IF(P24="Y",0,SUM(C24:N24)) -> 0 | S24: =IF(ISERROR(VLOOKUP(O24,GPATable!$A$1:$B$13,2,FALSE)),0,R24) -> 0 | T24: =IF(ISERROR(VLOOKUP(O24,GPATable!$A$1:$B$13,2,FALSE)),0,VLOOKUP(O24,GPATable!$A$1:$B$13,2,FALSE)) -> 0 | U24: =S24*T24 -> 0
R25: =IF(P25="Y",0,SUM(C25:N25)) -> 0 | S25: =IF(ISERROR(VLOOKUP(O25,GPATable!$A$1:$B$13,2,FALSE)),0,R25) -> 0 | T25: =IF(ISERROR(VLOOKUP(O25,GPATable!$A$1:$B$13,2,FALSE)),0,VLOOKUP(O25,GPATable!$A$1:$B$13,2,FALSE)) -> 0 | U25: =S25*T25 -> 0
R26: =IF(P26="Y",0,SUM(C26:N26)) -> 0 | S26: =IF(ISERROR(VLOOKUP(O26,GPATable!$A$1:$B$13,2,FALSE)),0,R26) -> 0 | T26: =IF(ISERROR(VLOOKUP(O26,GPATable!$A$1:$B$13,2,FALSE)),0,VLOOKUP(O26,GPATable!$A$1:$B$13,2,FALSE)) -> 0 | U26: =S26*T26 -> 0
R27: =IF(P27="Y",0,SUM(C27:N27)) -> 0 | S27: =IF(ISERROR(VLOOKUP(O27,GPATable!$A$1:$B$13,2,FALSE)),0,R27) -> 0 | T27: =IF(ISERROR(VLOOKUP(O27,GPATable!$A$1:$B$13,2,FALSE)),0,VLOOKUP(O27,GPATable!$A$1:$B$13,2,FALSE)) -> 0 | U27: =S27*T27 -> 0
R28: =IF(P28="Y",0,SUM(C28:N28)) -> 0 | S28: =IF(ISERROR(VLOOKUP(O28,GPATable!$A$1:$B$13,2,FALSE)),0,R28) -> 0 | T28: =IF(ISERROR(VLOOKUP(O28,GPATable!$A$1:$B$13,2,FALSE)),0,VLOOKUP(O28,GPATable!$A$1:$B$13,2,FALSE)) -> 0 | U28: =S28*T28 -> 0
R29: =IF(P29="Y",0,SUM(C29:N29)) -> 0 | S29: =IF(ISERROR(VLOOKUP(O29,GPATable!$A$1:$B$13,2,FALSE)),0,R29) -> 0 | T29: =IF(ISERROR(VLOOKUP(O29,GPATable!$A$1:$B$13,2,FALSE)),0,VLOOKUP(O29,GPATable!$A$1:$B$13,2,FALSE)) -> 0 | U29: =S29*T29 -> 0
A30: Ethics/Responsible Research | B30: CS 181W | C30: 4 | O30: A | P30: Y | Q30: (same as BIOMEDIN 217) | R30: =IF(P30="Y",0,SUM(C30:N30)) -> 0 | S30: =IF(ISERROR(VLOOKUP(O30,GPATable!$A$1:$B$13,2,FALSE)),0,R30) -> 0 | T30: =IF(ISERROR(VLOOKUP(O30,GPATable!$A$1:$B$13,2,FALSE)),0,VLOOKUP(O30,GPATable!$A$1:$B$13,2,FALSE)) -> 4 | U30: =S30*T30 -> 0
A31: Minimum of 4 units | R31: =IF(P31="Y",0,SUM(C31:N31)) -> 0 | S31: =IF(ISERROR(VLOOKUP(O31,GPATable!$A$1:$B$13,2,FALSE)),0,R31) -> 0 | T31: =IF(ISERROR(VLOOKUP(O31,GPATable!$A$1:$B$13,2,FALSE)),0,VLOOKUP(O31,GPATable!$A$1:$B$13,2,FALSE)) -> 0 | U31: =S31*T31 -> 0
A32: See website for complete list | R32: =IF(P32="Y",0,SUM(C32:N32)) -> 0 | S32: =IF(ISERROR(VLOOKUP(O32,GPATable!$A$1:$B$13,2,FALSE)),0,R32) -> 0 | T32: =IF(ISERROR(VLOOKUP(O32,GPATable!$A$1:$B$13,2,FALSE)),0,VLOOKUP(O32,GPATable!$A$1:$B$13,2,FALSE)) -> 0 | U32: =S32*T32 -> 0
R33: =IF(P33="Y",0,SUM(C33:N33)) -> 0 | S33: =IF(ISERROR(VLOOKUP(O33,GPATable!$A$1:$B$13,2,FALSE)),0,R33) -> 0 | T33: =IF(ISERROR(VLOOKUP(O33,GPATable!$A$1:$B$13,2,FALSE)),0,VLOOKUP(O33,GPATable!$A$1:$B$13,2,FALSE)) -> 0 | U33: =S33*T33 -> 0
R34: =IF(P34="Y",0,SUM(C34:N34)) -> 0 | S34: =IF(ISERROR(VLOOKUP(O34,GPATable!$A$1:$B$13,2,FALSE)),0,R34) -> 0 | T34: =IF(ISERROR(VLOOKUP(O34,GPATable!$A$1:$B$13,2,FALSE)),0,VLOOKUP(O34,GPATable!$A$1:$B$13,2,FALSE)) -> 0 | U34: =S34*T34 -> 0
A35: BMI-Related Electives | Q35: Above, there are 4+ 4 = 8 units listed | R35: =IF(P35="Y",0,SUM(C35:N35)) -> 0 | S35: =IF(ISERROR(VLOOKUP(O35,GPATable!$A$1:$B$13,2,FALSE)),0,R35) -> 0 | T35: =IF(ISERROR(VLOOKUP(O35,GPATable!$A$1:$B$13,2,FALSE)),0,VLOOKUP(O35,GPATable!$A$1:$B$13,2,FALSE)) -> 0 | U35: =S35*T35 -> 0
A36: Courses at 100 level or above | Q36: towards distributional requirements. | R36: =IF(P36="Y",0,SUM(C36:N36)) -> 0 | S36: =IF(ISERROR(VLOOKUP(O36,GPATable!$A$1:$B$13,2,FALSE)),0,R36) -> 0 | T36: =IF(ISERROR(VLOOKUP(O36,GPATable!$A$1:$B$13,2,FALSE)),0,VLOOKUP(O36,GPATable!$A$1:$B$13,2,FALSE)) -> 0 | U36: =S36*T36 -> 0
A37: for grand total for degree of | Q37: These become 8 additional unrestricted | R37: =IF(P37="Y",0,SUM(C37:N37)) -> 0 | S37: =IF(ISERROR(VLOOKUP(O37,GPATable!$A$1:$B$13,2,FALSE)),0,R37) -> 0 | T37: =IF(ISERROR(VLOOKUP(O37,GPATable!$A$1:$B$13,2,FALSE)),0,VLOOKUP(O37,GPATable!$A$1:$B$13,2,FALSE)) -> 0 | U37: =S37*T37 -> 0
A38: 45 units (as approved by | Q38: units, so list those here. | R38: =IF(P38="Y",0,SUM(C38:N38)) -> 0 | S38: =IF(ISERROR(VLOOKUP(O38,GPATable!$A$1:$B$13,2,FALSE)),0,R38) -> 0 | T38: =IF(ISERROR(VLOOKUP(O38,GPATable!$A$1:$B$13,2,FALSE)),0,VLOOKUP(O38,GPATable!$A$1:$B$13,2,FALSE)) -> 0 | U38: =S38*T38 -> 0
A39: advisor and BMI program) | R39: =IF(P39="Y",0,SUM(C39:N39)) -> 0 | S39: =IF(ISERROR(VLOOKUP(O39,GPATable!$A$1:$B$13,2,FALSE)),0,R39) -> 0 | T39: =IF(ISERROR(VLOOKUP(O39,GPATable!$A$1:$B$13,2,FALSE)),0,VLOOKUP(O39,GPATable!$A$1:$B$13,2,FALSE)) -> 0 | U39: =S39*T39 -> 0
R40: =IF(P40="Y",0,SUM(C40:N40)) -> 0 | S40: =IF(ISERROR(VLOOKUP(O40,GPATable!$A$1:$B$13,2,FALSE)),0,R40) -> 0 | T40: =IF(ISERROR(VLOOKUP(O40,GPATable!$A$1:$B$13,2,FALSE)),0,VLOOKUP(O40,GPATable!$A$1:$B$13,2,FALSE)) -> 0 | U40: =S40*T40 -> 0
R41: =IF(P41="Y",0,SUM(C41:N41)) -> 0 | S41: =IF(ISERROR(VLOOKUP(O41,GPATable!$A$1:$B$13,2,FALSE)),0,R41) -> 0 | T41: =IF(ISERROR(VLOOKUP(O41,GPATable!$A$1:$B$13,2,FALSE)),0,VLOOKUP(O41,GPATable!$A$1:$B$13,2,FALSE)) -> 0 | U41: =S41*T41 -> 0
R42: =IF(P42="Y",0,SUM(C42:N42)) -> 0 | S42: =IF(ISERROR(VLOOKUP(O42,GPATable!$A$1:$B$13,2,FALSE)),0,R42) -> 0 | T42: =IF(ISERROR(VLOOKUP(O42,GPATable!$A$1:$B$13,2,FALSE)),0,VLOOKUP(O42,GPATable!$A$1:$B$13,2,FALSE)) -> 0 | U42: =S42*T42 -> 0
R43: =IF(P43="Y",0,SUM(C43:N43)) -> 0 | S43: =IF(ISERROR(VLOOKUP(O43,GPATable!$A$1:$B$13,2,FALSE)),0,R43) -> 0 | T43: =IF(ISERROR(VLOOKUP(O43,GPATable!$A$1:$B$13,2,FALSE)),0,VLOOKUP(O43,GPATable!$A$1:$B$13,2,FALSE)) -> 0 | U43: =S43*T43 -> 0
R44: =IF(P44="Y",0,SUM(C44:N44)) -> 0 | S44: =IF(ISERROR(VLOOKUP(O44,GPATable!$A$1:$B$13,2,FALSE)),0,R44) -> 0 | T44: =IF(ISERROR(VLOOKUP(O44,GPATable!$A$1:$B$13,2,FALSE)),0,VLOOKUP(O44,GPATable!$A$1:$B$13,2,FALSE)) -> 0 | U44: =S44*T44 -> 0
R45: =IF(P45="Y",0,SUM(C45:N45)) -> 0 | S45: =IF(ISERROR(VLOOKUP(O45,GPATable!$A$1:$B$13,2,FALSE)),0,R45) -> 0 | T45: =IF(ISERROR(VLOOKUP(O45,GPATable!$A$1:$B$13,2,FALSE)),0,VLOOKUP(O45,GPATable!$A$1:$B$13,2,FALSE)) -> 0 | U45: =S45*T45 -> 0
R46: =IF(P46="Y",0,SUM(C46:N46)) -> 0 | S46: =IF(ISERROR(VLOOKUP(O46,GPATable!$A$1:$B$13,2,FALSE)),0,R46) -> 0 | T46: =IF(ISERROR(VLOOKUP(O46,GPATable!$A$1:$B$13,2,FALSE)),0,VLOOKUP(O46,GPATable!$A$1:$B$13,2,FALSE)) -> 0 | U46: =S46*T46 -> 0
B47: Total units per quarter | C47: =SUMPRODUCT(C11:C46,INT($P11:$P46<>"Y")) -> 0 | D47: =SUMPRODUCT(D11:D46,INT($P11:$P46<>"Y")) -> 5 | E47: =SUMPRODUCT(E11:E46,INT($P11:$P46<>"Y")) -> 0 | F47: =SUMPRODUCT(F11:F46,INT($P11:$P46<>"Y")) -> 0 | G47: =SUMPRODUCT(G11:G46,INT($P11:$P46<>"Y")) -> 0 | H47: =SUMPRODUCT(H11:H46,INT($P11:$P46<>"Y")) -> 0 | I47: =SUMPRODUCT(I11:I46,INT($P11:$P46<>"Y")) -> 0 | J47: =SUMPRODUCT(J11:J46,INT($P11:$P46<>"Y")) -> 0 | ... N47: =SUMPRODUCT(N11:N46,INT($P11:$P46<>"Y")) -> 0 | Q47: Total units | R47: =SUM(R11:R46) -> 5 | S47: =SUM(S11:S46) -> 5 | U47: =SUM(U11:U46) -> 18.5
Q48: Cumulative GPA | R48: =IF(ISERROR(ROUND(U47/S47,3)),"",ROUND(U47/S47,3)) -> 3.7
A50: * STATS 315A/CS 229 required for those starting after July 1, 2018

Sheet GPATable
A1: A+ | B1: 4.3
A2: A | B2: 4
A3: A- | B3: 3.7
A4: B+ | B4: 3.3
A5: B | B5: 3
A6: B- | B6: 2.7
A7: C+ | B7: 2.3
A8: C | B8: 2
A9: C- | B9: 1.7
A10: D+ | B10: 1.3
A11: D | B11: 1
A12: D- | B12: 0.7
A13: NP | B13: 0
